BEGIN:VCALENDAR
VERSION:2.0
PRODID:-//Penor Competición - ECPv6.15.18//NONSGML v1.0//EN
CALSCALE:GREGORIAN
METHOD:PUBLISH
X-ORIGINAL-URL:https://penorcompeticion.com
X-WR-CALDESC:Eventos para Penor Competición
REFRESH-INTERVAL;VALUE=DURATION:PT1H
X-Robots-Tag:noindex
X-PUBLISHED-TTL:PT1H
BEGIN:VTIMEZONE
TZID:Europe/Paris
BEGIN:DAYLIGHT
TZOFFSETFROM:+0100
TZOFFSETTO:+0200
TZNAME:CEST
DTSTART:20250330T010000
END:DAYLIGHT
BEGIN:STANDARD
TZOFFSETFROM:+0200
TZOFFSETTO:+0100
TZNAME:CET
DTSTART:20251026T010000
END:STANDARD
BEGIN:DAYLIGHT
TZOFFSETFROM:+0100
TZOFFSETTO:+0200
TZNAME:CEST
DTSTART:20260329T010000
END:DAYLIGHT
BEGIN:STANDARD
TZOFFSETFROM:+0200
TZOFFSETTO:+0100
TZNAME:CET
DTSTART:20261025T010000
END:STANDARD
BEGIN:DAYLIGHT
TZOFFSETFROM:+0100
TZOFFSETTO:+0200
TZNAME:CEST
DTSTART:20270328T010000
END:DAYLIGHT
BEGIN:STANDARD
TZOFFSETFROM:+0200
TZOFFSETTO:+0100
TZNAME:CET
DTSTART:20271031T010000
END:STANDARD
END:VTIMEZONE
BEGIN:VEVENT
DTSTART;TZID=Europe/Paris:20261002T080000
DTEND;TZID=Europe/Paris:20261004T170000
DTSTAMP:20260425T124055
CREATED:20251228T170748Z
LAST-MODIFIED:20251228T170748Z
UID:1986-1790928000-1791133200@penorcompeticion.com
SUMMARY:Bathurst 1000
DESCRIPTION:The Bathurst 1000 is staged on the Mount Panorama Circuit in Bathurst\, New South Wales\, Australia. Regarded as the pinnacle of motorsport in Australia\, this is the biggest event on the calendar for the Supercars Series. Cars Competing Supercars
URL:https://penorcompeticion.com/eventos/bathurst-1000-3/
CATEGORIES:iRacing
ATTACH;FMTTYPE=image/png:https://penorcompeticion.com/wp-content/uploads/2025/12/iRSE-2026-Bathurst-1000.png
END:VEVENT
BEGIN:VEVENT
DTSTART;TZID=Europe/Paris:20261016T080000
DTEND;TZID=Europe/Paris:20261018T170000
DTSTAMP:20260425T124055
CREATED:20251228T170823Z
LAST-MODIFIED:20251228T170823Z
UID:1988-1792137600-1792342800@penorcompeticion.com
SUMMARY:8 Hours of Indianapolis
DESCRIPTION:The 8 Hours of Indianapolis is an 8 hour endurance race held at Indianapolis Motor Speedway in Indiana. It is part of the Michelin Endurance Cup in the IMSA WeatherTech SportsCar Championship. Cars Competing GT3
URL:https://penorcompeticion.com/eventos/8-hours-of-indianapolis/
CATEGORIES:iRacing
ATTACH;FMTTYPE=image/png:https://penorcompeticion.com/wp-content/uploads/2025/12/iRSE-2026-Indianapolis-8H.png
END:VEVENT
END:VCALENDAR