BEGIN:VCALENDAR
VERSION:2.0
PRODID:-//Penor Competición - ECPv6.15.18//NONSGML v1.0//EN
CALSCALE:GREGORIAN
METHOD:PUBLISH
X-ORIGINAL-URL:https://penorcompeticion.com
X-WR-CALDESC:Eventos para Penor Competición
REFRESH-INTERVAL;VALUE=DURATION:PT1H
X-Robots-Tag:noindex
X-PUBLISHED-TTL:PT1H
BEGIN:VTIMEZONE
TZID:Europe/Paris
BEGIN:DAYLIGHT
TZOFFSETFROM:+0100
TZOFFSETTO:+0200
TZNAME:CEST
DTSTART:20240331T010000
END:DAYLIGHT
BEGIN:STANDARD
TZOFFSETFROM:+0200
TZOFFSETTO:+0100
TZNAME:CET
DTSTART:20241027T010000
END:STANDARD
BEGIN:DAYLIGHT
TZOFFSETFROM:+0100
TZOFFSETTO:+0200
TZNAME:CEST
DTSTART:20250330T010000
END:DAYLIGHT
BEGIN:STANDARD
TZOFFSETFROM:+0200
TZOFFSETTO:+0100
TZNAME:CET
DTSTART:20251026T010000
END:STANDARD
BEGIN:DAYLIGHT
TZOFFSETFROM:+0100
TZOFFSETTO:+0200
TZNAME:CEST
DTSTART:20260329T010000
END:DAYLIGHT
BEGIN:STANDARD
TZOFFSETFROM:+0200
TZOFFSETTO:+0100
TZNAME:CET
DTSTART:20261025T010000
END:STANDARD
END:VTIMEZONE
BEGIN:VEVENT
DTSTART;TZID=Europe/Paris:20250211T080000
DTEND;TZID=Europe/Paris:20250211T170000
DTSTAMP:20260426T022211
CREATED:20250113T164235Z
LAST-MODIFIED:20250113T164235Z
UID:1799-1739260800-1739293200@penorcompeticion.com
SUMMARY:EMS GT4 - Mount Panorama
DESCRIPTION:
URL:https://penorcompeticion.com/eventos/ems-gt4-mount-panorama/
CATEGORIES:iRacing
ATTACH;FMTTYPE=image/png:https://penorcompeticion.com/wp-content/uploads/2025/01/EUROPEAN-MASTER-SERIES-HORIZONTAL.png
END:VEVENT
BEGIN:VEVENT
DTSTART;TZID=Europe/Paris:20250218T080000
DTEND;TZID=Europe/Paris:20250218T170000
DTSTAMP:20260426T022211
CREATED:20250113T164301Z
LAST-MODIFIED:20250113T164301Z
UID:1801-1739865600-1739898000@penorcompeticion.com
SUMMARY:EMS GT4 - Laguna Seca
DESCRIPTION:
URL:https://penorcompeticion.com/eventos/ems-gt4-laguna-seca/
CATEGORIES:iRacing
ATTACH;FMTTYPE=image/png:https://penorcompeticion.com/wp-content/uploads/2025/01/EUROPEAN-MASTER-SERIES-HORIZONTAL.png
END:VEVENT
BEGIN:VEVENT
DTSTART;TZID=Europe/Paris:20250225T080000
DTEND;TZID=Europe/Paris:20250225T170000
DTSTAMP:20260426T022211
CREATED:20250113T164325Z
LAST-MODIFIED:20250113T164325Z
UID:1803-1740470400-1740502800@penorcompeticion.com
SUMMARY:EMS GT4 - Road Atlanta
DESCRIPTION:
URL:https://penorcompeticion.com/eventos/ems-gt4-road-atlanta/
CATEGORIES:iRacing
ATTACH;FMTTYPE=image/png:https://penorcompeticion.com/wp-content/uploads/2025/01/EUROPEAN-MASTER-SERIES-HORIZONTAL.png
END:VEVENT
END:VCALENDAR