BEGIN:VCALENDAR
VERSION:2.0
PRODID:-//Penor Competición - ECPv6.15.18//NONSGML v1.0//EN
CALSCALE:GREGORIAN
METHOD:PUBLISH
X-ORIGINAL-URL:https://penorcompeticion.com
X-WR-CALDESC:Eventos para Penor Competición
REFRESH-INTERVAL;VALUE=DURATION:PT1H
X-Robots-Tag:noindex
X-PUBLISHED-TTL:PT1H
BEGIN:VTIMEZONE
TZID:Europe/Paris
BEGIN:DAYLIGHT
TZOFFSETFROM:+0100
TZOFFSETTO:+0200
TZNAME:CEST
DTSTART:20230326T010000
END:DAYLIGHT
BEGIN:STANDARD
TZOFFSETFROM:+0200
TZOFFSETTO:+0100
TZNAME:CET
DTSTART:20231029T010000
END:STANDARD
BEGIN:DAYLIGHT
TZOFFSETFROM:+0100
TZOFFSETTO:+0200
TZNAME:CEST
DTSTART:20240331T010000
END:DAYLIGHT
BEGIN:STANDARD
TZOFFSETFROM:+0200
TZOFFSETTO:+0100
TZNAME:CET
DTSTART:20241027T010000
END:STANDARD
BEGIN:DAYLIGHT
TZOFFSETFROM:+0100
TZOFFSETTO:+0200
TZNAME:CEST
DTSTART:20250330T010000
END:DAYLIGHT
BEGIN:STANDARD
TZOFFSETFROM:+0200
TZOFFSETTO:+0100
TZNAME:CET
DTSTART:20251026T010000
END:STANDARD
END:VTIMEZONE
BEGIN:VEVENT
DTSTART;TZID=Europe/Paris:20241214T210000
DTEND;TZID=Europe/Paris:20241214T230000
DTSTAMP:20260426T060523
CREATED:20241203T102224Z
LAST-MODIFIED:20241203T102224Z
UID:1757-1734210000-1734217200@penorcompeticion.com
SUMMARY:VSCA - Test Daytona
DESCRIPTION:
URL:https://penorcompeticion.com/eventos/vsca-test-daytona/
CATEGORIES:iRacing
ATTACH;FMTTYPE=image/png:https://penorcompeticion.com/wp-content/uploads/2024/12/vsca-40px.png
END:VEVENT
END:VCALENDAR