BEGIN:VCALENDAR
VERSION:2.0
PRODID:-//Penor Competición - ECPv6.15.18//NONSGML v1.0//EN
CALSCALE:GREGORIAN
METHOD:PUBLISH
X-ORIGINAL-URL:https://penorcompeticion.com
X-WR-CALDESC:Eventos para Penor Competición
REFRESH-INTERVAL;VALUE=DURATION:PT1H
X-Robots-Tag:noindex
X-PUBLISHED-TTL:PT1H
BEGIN:VTIMEZONE
TZID:Europe/Paris
BEGIN:DAYLIGHT
TZOFFSETFROM:+0100
TZOFFSETTO:+0200
TZNAME:CEST
DTSTART:20240331T010000
END:DAYLIGHT
BEGIN:STANDARD
TZOFFSETFROM:+0200
TZOFFSETTO:+0100
TZNAME:CET
DTSTART:20241027T010000
END:STANDARD
BEGIN:DAYLIGHT
TZOFFSETFROM:+0100
TZOFFSETTO:+0200
TZNAME:CEST
DTSTART:20250330T010000
END:DAYLIGHT
BEGIN:STANDARD
TZOFFSETFROM:+0200
TZOFFSETTO:+0100
TZNAME:CET
DTSTART:20251026T010000
END:STANDARD
BEGIN:DAYLIGHT
TZOFFSETFROM:+0100
TZOFFSETTO:+0200
TZNAME:CEST
DTSTART:20260329T010000
END:DAYLIGHT
BEGIN:STANDARD
TZOFFSETFROM:+0200
TZOFFSETTO:+0100
TZNAME:CET
DTSTART:20261025T010000
END:STANDARD
BEGIN:DAYLIGHT
TZOFFSETFROM:+0100
TZOFFSETTO:+0200
TZNAME:CEST
DTSTART:20270328T010000
END:DAYLIGHT
BEGIN:STANDARD
TZOFFSETFROM:+0200
TZOFFSETTO:+0100
TZNAME:CET
DTSTART:20271031T010000
END:STANDARD
END:VTIMEZONE
BEGIN:VEVENT
DTSTART;TZID=Europe/Paris:20250104T170000
DTEND;TZID=Europe/Paris:20250104T190000
DTSTAMP:20260426T055415
CREATED:20241203T102626Z
LAST-MODIFIED:20241203T102626Z
UID:1761-1736010000-1736017200@penorcompeticion.com
SUMMARY:VSCA - The Roar Before The 24 Daytona
DESCRIPTION:
URL:https://penorcompeticion.com/eventos/vsca-the-roar-before-the-24-daytona/
CATEGORIES:iRacing
ATTACH;FMTTYPE=image/png:https://penorcompeticion.com/wp-content/uploads/2024/12/vsca-40px.png
END:VEVENT
BEGIN:VEVENT
DTSTART;TZID=Europe/Paris:20250111T160000
DTEND;TZID=Europe/Paris:20250112T160000
DTSTAMP:20260426T055415
CREATED:20241203T103218Z
LAST-MODIFIED:20241203T103218Z
UID:1766-1736611200-1736697600@penorcompeticion.com
SUMMARY:VSCA - 24 Hours of Daytona
DESCRIPTION:
URL:https://penorcompeticion.com/eventos/vsca-24-hours-of-daytona/
CATEGORIES:iRacing
ATTACH;FMTTYPE=image/png:https://penorcompeticion.com/wp-content/uploads/2024/12/vsca-40px.png
END:VEVENT
BEGIN:VEVENT
DTSTART;TZID=Europe/Paris:20250114T080000
DTEND;TZID=Europe/Paris:20250114T170000
DTSTAMP:20260426T055415
CREATED:20250113T163930Z
LAST-MODIFIED:20250113T164420Z
UID:1789-1736841600-1736874000@penorcompeticion.com
SUMMARY:EMS GT4 - Interlagos
DESCRIPTION:
URL:https://penorcompeticion.com/eventos/ems-gt4-interlagos/
CATEGORIES:iRacing
ATTACH;FMTTYPE=image/png:https://penorcompeticion.com/wp-content/uploads/2025/01/EUROPEAN-MASTER-SERIES-HORIZONTAL.png
END:VEVENT
BEGIN:VEVENT
DTSTART;TZID=Europe/Paris:20250121T080000
DTEND;TZID=Europe/Paris:20250121T170000
DTSTAMP:20260426T055415
CREATED:20250113T164130Z
LAST-MODIFIED:20250113T164130Z
UID:1795-1737446400-1737478800@penorcompeticion.com
SUMMARY:EMS GT4 - Virginia
DESCRIPTION:
URL:https://penorcompeticion.com/eventos/ems-gt4-virginia/
CATEGORIES:iRacing
ATTACH;FMTTYPE=image/png:https://penorcompeticion.com/wp-content/uploads/2025/01/EUROPEAN-MASTER-SERIES-HORIZONTAL.png
END:VEVENT
BEGIN:VEVENT
DTSTART;TZID=Europe/Paris:20250128T080000
DTEND;TZID=Europe/Paris:20250128T170000
DTSTAMP:20260426T055415
CREATED:20250113T164201Z
LAST-MODIFIED:20250113T164201Z
UID:1797-1738051200-1738083600@penorcompeticion.com
SUMMARY:EMS GT4 - Daytona
DESCRIPTION:
URL:https://penorcompeticion.com/eventos/ems-gt4-daytona/
CATEGORIES:iRacing
ATTACH;FMTTYPE=image/png:https://penorcompeticion.com/wp-content/uploads/2025/01/EUROPEAN-MASTER-SERIES-HORIZONTAL.png
END:VEVENT
BEGIN:VEVENT
DTSTART;TZID=Europe/Paris:20250211T080000
DTEND;TZID=Europe/Paris:20250211T170000
DTSTAMP:20260426T055415
CREATED:20250113T164235Z
LAST-MODIFIED:20250113T164235Z
UID:1799-1739260800-1739293200@penorcompeticion.com
SUMMARY:EMS GT4 - Mount Panorama
DESCRIPTION:
URL:https://penorcompeticion.com/eventos/ems-gt4-mount-panorama/
CATEGORIES:iRacing
ATTACH;FMTTYPE=image/png:https://penorcompeticion.com/wp-content/uploads/2025/01/EUROPEAN-MASTER-SERIES-HORIZONTAL.png
END:VEVENT
BEGIN:VEVENT
DTSTART;TZID=Europe/Paris:20250218T080000
DTEND;TZID=Europe/Paris:20250218T170000
DTSTAMP:20260426T055415
CREATED:20250113T164301Z
LAST-MODIFIED:20250113T164301Z
UID:1801-1739865600-1739898000@penorcompeticion.com
SUMMARY:EMS GT4 - Laguna Seca
DESCRIPTION:
URL:https://penorcompeticion.com/eventos/ems-gt4-laguna-seca/
CATEGORIES:iRacing
ATTACH;FMTTYPE=image/png:https://penorcompeticion.com/wp-content/uploads/2025/01/EUROPEAN-MASTER-SERIES-HORIZONTAL.png
END:VEVENT
BEGIN:VEVENT
DTSTART;TZID=Europe/Paris:20250225T080000
DTEND;TZID=Europe/Paris:20250225T170000
DTSTAMP:20260426T055415
CREATED:20250113T164325Z
LAST-MODIFIED:20250113T164325Z
UID:1803-1740470400-1740502800@penorcompeticion.com
SUMMARY:EMS GT4 - Road Atlanta
DESCRIPTION:
URL:https://penorcompeticion.com/eventos/ems-gt4-road-atlanta/
CATEGORIES:iRacing
ATTACH;FMTTYPE=image/png:https://penorcompeticion.com/wp-content/uploads/2025/01/EUROPEAN-MASTER-SERIES-HORIZONTAL.png
END:VEVENT
BEGIN:VEVENT
DTSTART;TZID=Europe/Paris:20250301T150000
DTEND;TZID=Europe/Paris:20250302T030000
DTSTAMP:20260426T055415
CREATED:20241203T103350Z
LAST-MODIFIED:20241203T103350Z
UID:1768-1740841200-1740884400@penorcompeticion.com
SUMMARY:VSCA - 12 Hours of Sebring
DESCRIPTION:
URL:https://penorcompeticion.com/eventos/vsca-12-hours-of-sebring/
CATEGORIES:iRacing
ATTACH;FMTTYPE=image/png:https://penorcompeticion.com/wp-content/uploads/2024/12/vsca-40px.png
END:VEVENT
BEGIN:VEVENT
DTSTART;TZID=Europe/Paris:20250405T170000
DTEND;TZID=Europe/Paris:20250405T200000
DTSTAMP:20260426T055415
CREATED:20241203T103514Z
LAST-MODIFIED:20241203T103514Z
UID:1770-1743872400-1743883200@penorcompeticion.com
SUMMARY:VSCA - Course De Monterey - Laguna Seca
DESCRIPTION:
URL:https://penorcompeticion.com/eventos/vsca-course-de-monterey-laguna-seca/
CATEGORIES:iRacing
ATTACH;FMTTYPE=image/png:https://penorcompeticion.com/wp-content/uploads/2024/12/vsca-40px.png
END:VEVENT
BEGIN:VEVENT
DTSTART;TZID=Europe/Paris:20250426T170000
DTEND;TZID=Europe/Paris:20250426T200000
DTSTAMP:20260426T055415
CREATED:20241203T103623Z
LAST-MODIFIED:20241203T103623Z
UID:1772-1745686800-1745697600@penorcompeticion.com
SUMMARY:VSCA - Virginia Sports Car Grand Prix
DESCRIPTION:
URL:https://penorcompeticion.com/eventos/vsca-virginia-sports-car-grand-prix/
CATEGORIES:iRacing
ATTACH;FMTTYPE=image/png:https://penorcompeticion.com/wp-content/uploads/2024/12/vsca-40px.png
END:VEVENT
BEGIN:VEVENT
DTSTART;TZID=Europe/Paris:20250531T170000
DTEND;TZID=Europe/Paris:20250531T190000
DTSTAMP:20260426T055415
CREATED:20241203T103731Z
LAST-MODIFIED:20241214T121336Z
UID:1774-1748710800-1748718000@penorcompeticion.com
SUMMARY:VSCA - Detroit Sports Car Classic - Belle Isle
DESCRIPTION:
URL:https://penorcompeticion.com/eventos/vsca-detroit-sports-car-classic-belle-isle/
CATEGORIES:iRacing
ATTACH;FMTTYPE=image/png:https://penorcompeticion.com/wp-content/uploads/2024/12/vsca-40px.png
END:VEVENT
BEGIN:VEVENT
DTSTART;TZID=Europe/Paris:20250621T170000
DTEND;TZID=Europe/Paris:20250621T230000
DTSTAMP:20260426T055415
CREATED:20241203T103815Z
LAST-MODIFIED:20241214T121357Z
UID:1776-1750525200-1750546800@penorcompeticion.com
SUMMARY:VSCA - Six Hours of the Watkings Glen
DESCRIPTION:
URL:https://penorcompeticion.com/eventos/vsca-six-hours-of-the-watkings-glen/
CATEGORIES:iRacing
ATTACH;FMTTYPE=image/png:https://penorcompeticion.com/wp-content/uploads/2024/12/vsca-40px.png
END:VEVENT
BEGIN:VEVENT
DTSTART;TZID=Europe/Paris:20250830T170000
DTEND;TZID=Europe/Paris:20250830T230000
DTSTAMP:20260426T055415
CREATED:20241203T103858Z
LAST-MODIFIED:20241203T103858Z
UID:1778-1756573200-1756594800@penorcompeticion.com
SUMMARY:VSCA - 6 Hours at The Brickyard - Indianapolis
DESCRIPTION:
URL:https://penorcompeticion.com/eventos/vsca-6-hours-at-the-brickyard-indianapolis/
CATEGORIES:iRacing
ATTACH;FMTTYPE=image/png:https://penorcompeticion.com/wp-content/uploads/2024/12/vsca-40px.png
END:VEVENT
BEGIN:VEVENT
DTSTART;TZID=Europe/Paris:20250927T170000
DTEND;TZID=Europe/Paris:20250927T200000
DTSTAMP:20260426T055415
CREATED:20241203T103941Z
LAST-MODIFIED:20241203T103941Z
UID:1780-1758992400-1759003200@penorcompeticion.com
SUMMARY:VSCA - JRT Road America 160
DESCRIPTION:
URL:https://penorcompeticion.com/eventos/vsca-jrt-road-america-160/
CATEGORIES:iRacing
ATTACH;FMTTYPE=image/png:https://penorcompeticion.com/wp-content/uploads/2024/12/vsca-40px.png
END:VEVENT
BEGIN:VEVENT
DTSTART;TZID=Europe/Paris:20251018T150000
DTEND;TZID=Europe/Paris:20251019T010000
DTSTAMP:20260426T055415
CREATED:20241203T104033Z
LAST-MODIFIED:20241214T121429Z
UID:1782-1760799600-1760835600@penorcompeticion.com
SUMMARY:VSCA - 10H Petit Le Mans
DESCRIPTION:
URL:https://penorcompeticion.com/eventos/vsca-10h-petit-le-mans/
CATEGORIES:iRacing
ATTACH;FMTTYPE=image/png:https://penorcompeticion.com/wp-content/uploads/2024/12/vsca-40px.png
END:VEVENT
BEGIN:VEVENT
DTSTART;TZID=Europe/Paris:20260109T080000
DTEND;TZID=Europe/Paris:20260110T170000
DTSTAMP:20260426T055415
CREATED:20251228T165414Z
LAST-MODIFIED:20251228T165414Z
UID:1950-1767945600-1768064400@penorcompeticion.com
SUMMARY:iRacing ROAR
DESCRIPTION:The iRacing ROAR is inspired by the real-world Roar Before the Rolex 24 at Daytona International Speedway. Back by popular demand\, this event kicks off the 2026 iRacing Special Event schedule. Cars Competing LMP3 // GT4 // Touring Cars
URL:https://penorcompeticion.com/eventos/iracing-roar-3/
CATEGORIES:iRacing
ATTACH;FMTTYPE=image/png:https://penorcompeticion.com/wp-content/uploads/2025/12/iRSE-2026-ROAR-960x576-1.png
END:VEVENT
BEGIN:VEVENT
DTSTART;TZID=Europe/Paris:20260116T080000
DTEND;TZID=Europe/Paris:20260118T170000
DTSTAMP:20260426T055415
CREATED:20251228T165513Z
LAST-MODIFIED:20251228T165834Z
UID:1952-1768550400-1768755600@penorcompeticion.com
SUMMARY:Daytona 24
DESCRIPTION:The event marks the ninth running of the anniversary of iRacing’s popular driver swap/team feature that sees hundreds of teams of iRacing drivers\, team managers\, engineers\, and spotters participate in the around the clock sim race. The 24 Hours of Daytona is a 24 hour endurance race held at Daytona International Speedway in Daytona Beach\, Florida. It is the opening round of the IMSA Michelin Endurance Cup in the IMSA WeatherTech SportsCar Championship. Cars Competing GTP & HYP // LMP2 // GT3 (IMSA)
URL:https://penorcompeticion.com/eventos/daytona-24-2/
CATEGORIES:iRacing
ATTACH;FMTTYPE=image/png:https://penorcompeticion.com/wp-content/uploads/2025/12/iRSE-2026-Daytona-24-VCO-960x576-1.png
END:VEVENT
BEGIN:VEVENT
DTSTART;VALUE=DATE:20260202
DTEND;VALUE=DATE:20260203
DTSTAMP:20260426T055415
CREATED:20260131T201241Z
LAST-MODIFIED:20260131T201241Z
UID:2042-1769990400-1770076799@penorcompeticion.com
SUMMARY:Maters Cup 2026 - 2ª división / Sebring
DESCRIPTION:
URL:https://penorcompeticion.com/eventos/maters-cup-2026-2a-division-sebring/
CATEGORIES:iRacing
ATTACH;FMTTYPE=image/png:https://penorcompeticion.com/wp-content/uploads/2026/01/EUROPEAN-MASTER-SERIES-HORIZONTAL-2-scaled.png
END:VEVENT
BEGIN:VEVENT
DTSTART;VALUE=DATE:20260203
DTEND;VALUE=DATE:20260204
DTSTAMP:20260426T055415
CREATED:20260131T201740Z
LAST-MODIFIED:20260131T201740Z
UID:2055-1770076800-1770163199@penorcompeticion.com
SUMMARY:Masters Cup 2026 - 3ª división /  Sebring
DESCRIPTION:
URL:https://penorcompeticion.com/eventos/masters-cup-2026-3a-division-sebring/
CATEGORIES:iRacing
ATTACH;FMTTYPE=image/png:https://penorcompeticion.com/wp-content/uploads/2026/01/EUROPEAN-MASTER-SERIES-HORIZONTAL-2-scaled.png
END:VEVENT
BEGIN:VEVENT
DTSTART;VALUE=DATE:20260209
DTEND;VALUE=DATE:20260210
DTSTAMP:20260426T055415
CREATED:20260131T201325Z
LAST-MODIFIED:20260131T201325Z
UID:2045-1770595200-1770681599@penorcompeticion.com
SUMMARY:Maters Cup 2026 - 2ª división / Silverstone
DESCRIPTION:
URL:https://penorcompeticion.com/eventos/maters-cup-2026-2a-division-silverstone/
CATEGORIES:iRacing
ATTACH;FMTTYPE=image/png:https://penorcompeticion.com/wp-content/uploads/2026/01/EUROPEAN-MASTER-SERIES-HORIZONTAL-2-scaled.png
END:VEVENT
BEGIN:VEVENT
DTSTART;VALUE=DATE:20260210
DTEND;VALUE=DATE:20260211
DTSTAMP:20260426T055415
CREATED:20260131T201829Z
LAST-MODIFIED:20260131T201829Z
UID:2057-1770681600-1770767999@penorcompeticion.com
SUMMARY:Masters Cup 2026 - 3ª división / Silverstone
DESCRIPTION:
URL:https://penorcompeticion.com/eventos/masters-cup-2026-3a-division-silverstone/
CATEGORIES:iRacing
ATTACH;FMTTYPE=image/png:https://penorcompeticion.com/wp-content/uploads/2026/01/EUROPEAN-MASTER-SERIES-HORIZONTAL-2-scaled.png
END:VEVENT
BEGIN:VEVENT
DTSTART;TZID=Europe/Paris:20260211T080000
DTEND;TZID=Europe/Paris:20260218T170000
DTSTAMP:20260426T055415
CREATED:20251228T165555Z
LAST-MODIFIED:20251228T165555Z
UID:1954-1770796800-1771434000@penorcompeticion.com
SUMMARY:Daytona 500
DESCRIPTION:Known as “The Great American Race\,” the iRacing Daytona 500 serves as part of the NASCAR iRacing Series schedule. It’s one of four full-length events in the championship\, which mirrors the real-world NASCAR Cup Series campaign with 36 events throughout the year. Cars Competing NASCAR Cup Series
URL:https://penorcompeticion.com/eventos/daytona-500-2/
CATEGORIES:iRacing
ATTACH;FMTTYPE=image/png:https://penorcompeticion.com/wp-content/uploads/2025/12/iRSE-2026-Daytona-500.png
END:VEVENT
BEGIN:VEVENT
DTSTART;VALUE=DATE:20260216
DTEND;VALUE=DATE:20260217
DTSTAMP:20260426T055415
CREATED:20260131T201418Z
LAST-MODIFIED:20260131T201418Z
UID:2047-1771200000-1771286399@penorcompeticion.com
SUMMARY:Maters Cup 2026 - 2ª división /  Spa-Francorchamps
DESCRIPTION:
URL:https://penorcompeticion.com/eventos/maters-cup-2026-2a-division-spa-francorchamps/
CATEGORIES:iRacing
ATTACH;FMTTYPE=image/png:https://penorcompeticion.com/wp-content/uploads/2026/01/EUROPEAN-MASTER-SERIES-HORIZONTAL-2-scaled.png
END:VEVENT
BEGIN:VEVENT
DTSTART;VALUE=DATE:20260217
DTEND;VALUE=DATE:20260218
DTSTAMP:20260426T055415
CREATED:20260131T201905Z
LAST-MODIFIED:20260131T201905Z
UID:2059-1771286400-1771372799@penorcompeticion.com
SUMMARY:Masters Cup 2026 - 3ª división / Spa-Francorchamps
DESCRIPTION:
URL:https://penorcompeticion.com/eventos/masters-cup-2026-3a-division-spa-francorchamps/
CATEGORIES:iRacing
ATTACH;FMTTYPE=image/png:https://penorcompeticion.com/wp-content/uploads/2026/01/EUROPEAN-MASTER-SERIES-HORIZONTAL-2-scaled.png
END:VEVENT
BEGIN:VEVENT
DTSTART;TZID=Europe/Paris:20260220T080000
DTEND;TZID=Europe/Paris:20260222T170000
DTSTAMP:20260426T055415
CREATED:20251228T165632Z
LAST-MODIFIED:20251228T165632Z
UID:1956-1771574400-1771779600@penorcompeticion.com
SUMMARY:Bathurst 12
DESCRIPTION:The Bathurst 12 Hour is a 12 hour endurance race staged on the Mount Panorama Circuit in Bathurst\, New South Wales\, Australia. This event serves as the opening round to the Intercontinental GT Challenge Series in the real world. Cars Competing GT3 Class
URL:https://penorcompeticion.com/eventos/bathurst-12-2/
CATEGORIES:iRacing
ATTACH;FMTTYPE=image/png:https://penorcompeticion.com/wp-content/uploads/2025/12/iRSE-2026-Bathurst-12.png
END:VEVENT
BEGIN:VEVENT
DTSTART;VALUE=DATE:20260223
DTEND;VALUE=DATE:20260224
DTSTAMP:20260426T055415
CREATED:20260131T201534Z
LAST-MODIFIED:20260131T201534Z
UID:2049-1771804800-1771891199@penorcompeticion.com
SUMMARY:Masters Cup 2026 - 2ª división / Road America
DESCRIPTION:
URL:https://penorcompeticion.com/eventos/masters-cup-2026-2a-division-road-america/
CATEGORIES:iRacing
ATTACH;FMTTYPE=image/png:https://penorcompeticion.com/wp-content/uploads/2026/01/EUROPEAN-MASTER-SERIES-HORIZONTAL-2-scaled.png
END:VEVENT
BEGIN:VEVENT
DTSTART;VALUE=DATE:20260224
DTEND;VALUE=DATE:20260225
DTSTAMP:20260426T055415
CREATED:20260131T201930Z
LAST-MODIFIED:20260131T201930Z
UID:2061-1771891200-1771977599@penorcompeticion.com
SUMMARY:Masters Cup 2026 - 3ª división / Road America
DESCRIPTION:
URL:https://penorcompeticion.com/eventos/masters-cup-2026-3a-division-road-america/
CATEGORIES:iRacing
ATTACH;FMTTYPE=image/png:https://penorcompeticion.com/wp-content/uploads/2026/01/EUROPEAN-MASTER-SERIES-HORIZONTAL-2-scaled.png
END:VEVENT
BEGIN:VEVENT
DTSTART;VALUE=DATE:20260309
DTEND;VALUE=DATE:20260310
DTSTAMP:20260426T055415
CREATED:20260131T201617Z
LAST-MODIFIED:20260131T201617Z
UID:2051-1773014400-1773100799@penorcompeticion.com
SUMMARY:Masters Cup 2026 - 2ª división / Autodromo Jose Carlos pace
DESCRIPTION:
URL:https://penorcompeticion.com/eventos/masters-cup-2026-2a-division-autodromo-jose-carlos-pace/
CATEGORIES:iRacing
ATTACH;FMTTYPE=image/png:https://penorcompeticion.com/wp-content/uploads/2026/01/EUROPEAN-MASTER-SERIES-HORIZONTAL-2-scaled.png
END:VEVENT
BEGIN:VEVENT
DTSTART;VALUE=DATE:20260310
DTEND;VALUE=DATE:20260311
DTSTAMP:20260426T055415
CREATED:20260131T202002Z
LAST-MODIFIED:20260131T202002Z
UID:2063-1773100800-1773187199@penorcompeticion.com
SUMMARY:Masters Cup 2026 - 3ª división / Autodromo Jose Carlos Pace
DESCRIPTION:
URL:https://penorcompeticion.com/eventos/masters-cup-2026-3a-division-autodromo-jose-carlos-pace/
CATEGORIES:iRacing
ATTACH;FMTTYPE=image/png:https://penorcompeticion.com/wp-content/uploads/2026/01/EUROPEAN-MASTER-SERIES-HORIZONTAL-2-scaled.png
END:VEVENT
END:VCALENDAR